{"text_format":"2","workbook":"xlsx","n_sheets":2,"sheets":["Scoring","Summary"],"not_rendered":{"charts":0,"images":0,"macros":0,"external_links":0,"defined_names":1,"comments":0,"pivot_tables":0},"unopened":[],"bounds":{"document_bytes":16777216,"sheet_cells":100000,"run_cost":"one","rows_first":2000,"rows_last":500,"rows_between":2000,"halvings":0,"cell_chars":16384,"cell_head_chars":4096},"cells_cut":0,"cells_raw":0,"read":"whole","date_system":"1900"}

{"sheet":"Scoring","index":0,"n_rows":20,"n_cols":63,"rows_kept":20,"cut":false,"hidden":false,"merged":[[0,0,0,8],[1,9,1,12],[2,9,2,12],[1,15,1,18],[2,15,2,18],[1,3,1,8],[2,3,2,8],[1,21,1,24],[2,21,2,24],[1,27,1,30],[2,27,2,30],[1,33,1,36],[2,33,2,36],[1,57,1,60],[2,57,2,60],[1,39,1,42],[2,39,2,42],[1,45,1,48],[2,45,2,48],[1,51,1,54],[2,51,2,54]]}
["Instructions: This sheet can summarize all committee member responses to the Recommendation Grading Survey. This sheet is organized with the 9 survey questions listed in column B, and the 4 response options for each recommendation across columns.\n1) Start by filling in each recommendation across row 3.\n2) As you can see, each recommendation has 6 corresponding columns (e.g. D through I correspond to Recommendation 1). Only the dark and light yellow cells in this sheet should be edited. The other cells are calculations needed to calculate the Summary sheet. Nothing should be edited on the Summary sheet. \n3) For each questions 1A-3C, fill in the number of committee members who responded \"yes\", \"no\", \"cannot decide\" and \"no answer\" for each recommendation. \n4) Repeat step 3 for all recommendations. "]
[null,null,null,11,{"$nulls":5},12,{"$nulls":5},13,{"$nulls":5},14,{"$nulls":5},15,{"$nulls":5},16,{"$nulls":5},17,{"$nulls":5},18,{"$nulls":5},19,{"$nulls":5},20]
[null,"Recommendation Theme "]
[null,"Question",null,"Yes","No","Cannot decide","No answer","Sum","Sum Usable","Yes","No","Cannot decide","No answer","Sum","Sum Usable","Yes","No","Cannot decide","No answer","Sum","Sum Usable","Yes","No","Cannot decide","No answer","Sum","Sum Usable","Yes","No","Cannot decide","No answer","Sum","Sum Usable","Yes","No","Cannot decide","No answer","Sum","Sum Usable","Yes","No","Cannot decide","No answer","Sum","Sum Usable","Yes","No","Cannot decide","No answer","Sum","Sum Usable","Yes","No","Cannot decide","No answer","Sum","Sum Usable","Yes","No","Cannot decide","No answer","Sum","Sum Usable"]
[1,"Consider effectiveness when answering the following 3 questions:"]
["1A","Is there high-quality evidence and knowledge of this recommendation being effective (i.e. having an impact) from other contexts?",{"$nulls":5},{"$f":"SUM(D6:G6)","v":0},{"$f":"SUM(D6:F6)","v":0},{"$nulls":4},{"$f":"SUM(J6:M6)","v":0},{"$f":"SUM(J6:L6)","v":0},{"$nulls":4},{"$f":"SUM(P6:S6)","v":0},{"$f":"SUM(P6:R6)","v":0},{"$nulls":4},{"$f":"SUM(V6:Y6)","v":0},{"$f":"SUM(V6:X6)","v":0},{"$nulls":4},{"$f":"SUM(AB6:AE6)","v":0},{"$f":"SUM(AB6:AD6)","v":0},{"$nulls":4},{"$f":"SUM(AH6:AK6)","v":0},{"$f":"SUM(AH6:AJ6)","v":0},{"$nulls":4},{"$f":"SUM(AN6:AQ6)","v":0},{"$f":"SUM(AN6:AP6)","v":0},{"$nulls":4},{"$f":"SUM(AT6:AW6)","v":0},{"$f":"SUM(AT6:AV6)","v":0},{"$nulls":4},{"$f":"SUM(AZ6:BC6)","v":0},{"$f":"SUM(AZ6:BB6)","v":0},{"$nulls":4},{"$f":"SUM(BF6:BI6)","v":0},{"$f":"SUM(BF6:BH6)","v":0}]
["1B","Is the evidence for this recommendation translatable to your context?",{"$nulls":5},{"$f":"SUM(D7:G7)","v":0},{"$f":"SUM(D7:F7)","v":0},{"$nulls":4},{"$f":"SUM(J7:M7)","v":0},{"$f":"SUM(J7:L7)","v":0},{"$nulls":4},{"$f":"SUM(P7:S7)","v":0},{"$f":"SUM(P7:R7)","v":0},{"$nulls":4},{"$f":"SUM(V7:Y7)","v":0},{"$f":"SUM(V7:X7)","v":0},{"$nulls":4},{"$f":"SUM(AB7:AE7)","v":0},{"$f":"SUM(AB7:AD7)","v":0},{"$nulls":4},{"$f":"SUM(AH7:AK7)","v":0},{"$f":"SUM(AH7:AJ7)","v":0},{"$nulls":4},{"$f":"SUM(AN7:AQ7)","v":0},{"$f":"SUM(AN7:AP7)","v":0},{"$nulls":4},{"$f":"SUM(AT7:AW7)","v":0},{"$f":"SUM(AT7:AV7)","v":0},{"$nulls":4},{"$f":"SUM(AZ7:BC7)","v":0},{"$f":"SUM(AZ7:BB7)","v":0},{"$nulls":4},{"$f":"SUM(BF7:BI7)","v":0},{"$f":"SUM(BF7:BH7)","v":0}]
["1C","Is this recommendation scalable?",{"$nulls":5},{"$f":"SUM(D8:G8)","v":0},0,{"$nulls":4},{"$f":"SUM(J8:M8)","v":0},0,{"$nulls":4},{"$f":"SUM(P8:S8)","v":0},0,{"$nulls":4},{"$f":"SUM(V8:Y8)","v":0},0,{"$nulls":4},{"$f":"SUM(AB8:AE8)","v":0},0,{"$nulls":4},{"$f":"SUM(AH8:AK8)","v":0},0,{"$nulls":4},{"$f":"SUM(AN8:AQ8)","v":0},0,{"$nulls":4},{"$f":"SUM(AT8:AW8)","v":0},0,{"$nulls":4},{"$f":"SUM(AZ8:BC8)","v":0},0,{"$nulls":4},{"$f":"SUM(BF8:BI8)","v":0},0]
[2,"Consider affordability when answering the following 3 questions:"]
["2A","Is the cost of implementing this recommendation known?",{"$nulls":5},{"$f":"SUM(D10:G10)","v":0},0,{"$nulls":4},{"$f":"SUM(J10:M10)","v":0},{"$f":"SUM(J10:L10)","v":0},{"$nulls":4},{"$f":"SUM(P10:S10)","v":0},{"$f":"SUM(P10:R10)","v":0},{"$nulls":4},{"$f":"SUM(V10:Y10)","v":0},{"$f":"SUM(V10:X10)","v":0},{"$nulls":4},{"$f":"SUM(AB10:AE10)","v":0},{"$f":"SUM(AB10:AD10)","v":0},{"$nulls":4},{"$f":"SUM(AH10:AK10)","v":0},{"$f":"SUM(AH10:AJ10)","v":0},{"$nulls":4},{"$f":"SUM(AN10:AQ10)","v":0},{"$f":"SUM(AN10:AP10)","v":0},{"$nulls":4},{"$f":"SUM(AT10:AW10)","v":0},{"$f":"SUM(AT10:AV10)","v":0},{"$nulls":4},{"$f":"SUM(AZ10:BC10)","v":0},{"$f":"SUM(AZ10:BB10)","v":0},{"$nulls":4},{"$f":"SUM(BF10:BI10)","v":0},{"$f":"SUM(BF10:BH10)","v":0}]
["2B","Can this recommendation be funded?",{"$nulls":5},{"$f":"SUM(D11:G11)","v":0},0,{"$nulls":4},{"$f":"SUM(J11:M11)","v":0},0,{"$nulls":4},{"$f":"SUM(P11:S11)","v":0},0,{"$nulls":4},{"$f":"SUM(V11:Y11)","v":0},0,{"$nulls":4},{"$f":"SUM(AB11:AE11)","v":0},0,{"$nulls":4},{"$f":"SUM(AH11:AK11)","v":0},0,{"$nulls":4},{"$f":"SUM(AN11:AQ11)","v":0},0,{"$nulls":4},{"$f":"SUM(AT11:AW11)","v":0},0,{"$nulls":4},{"$f":"SUM(AZ11:BC11)","v":0},0,{"$nulls":4},{"$f":"SUM(BF11:BI11)","v":0},0]
["2C","Are there potential funders who can fund this recommendation?",{"$nulls":5},{"$f":"SUM(D12:G12)","v":0},0,{"$nulls":4},{"$f":"SUM(J12:M12)","v":0},0,{"$nulls":4},{"$f":"SUM(P12:S12)","v":0},0,{"$nulls":4},{"$f":"SUM(V12:Y12)","v":0},0,{"$nulls":4},{"$f":"SUM(AB12:AE12)","v":0},0,{"$nulls":4},{"$f":"SUM(AH12:AK12)","v":0},0,{"$nulls":4},{"$f":"SUM(AN12:AQ12)","v":0},0,{"$nulls":4},{"$f":"SUM(AT12:AW12)","v":0},0,{"$nulls":4},{"$f":"SUM(AZ12:BC12)","v":0},0,{"$nulls":4},{"$f":"SUM(BF12:BI12)","v":0},0]
[3,"Consider feasibility when answering the following 3 questions:"]
["3A","Are the necessary human and financial resources in place (or can reasonably be expected to be in place) to implement this recommendation?",{"$nulls":5},{"$f":"SUM(D14:G14)","v":0},0,{"$nulls":4},{"$f":"SUM(J14:M14)","v":0},{"$f":"SUM(J14:L14)","v":0},{"$nulls":4},{"$f":"SUM(P14:S14)","v":0},{"$f":"SUM(P14:R14)","v":0},{"$nulls":4},{"$f":"SUM(V14:Y14)","v":0},{"$f":"SUM(V14:X14)","v":0},{"$nulls":4},{"$f":"SUM(AB14:AE14)","v":0},{"$f":"SUM(AB14:AD14)","v":0},{"$nulls":4},{"$f":"SUM(AH14:AK14)","v":0},{"$f":"SUM(AH14:AJ14)","v":0},{"$nulls":4},{"$f":"SUM(AN14:AQ14)","v":0},{"$f":"SUM(AN14:AP14)","v":0},{"$nulls":4},{"$f":"SUM(AT14:AW14)","v":0},{"$f":"SUM(AT14:AV14)","v":0},{"$nulls":4},{"$f":"SUM(AZ14:BC14)","v":0},{"$f":"SUM(AZ14:BB14)","v":0},{"$nulls":4},{"$f":"SUM(BF14:BI14)","v":0},{"$f":"SUM(BF14:BH14)","v":0}]
["3B","Are the necessary institutions and partnerships in place (or can reasonably be expected to be in place) for this recommendation to be implemented?",{"$nulls":5},{"$f":"SUM(D15:G15)","v":0},0,{"$nulls":4},{"$f":"SUM(J15:M15)","v":0},0,{"$nulls":4},{"$f":"SUM(P15:S15)","v":0},0,{"$nulls":4},{"$f":"SUM(V15:Y15)","v":0},0,{"$nulls":4},{"$f":"SUM(AB15:AE15)","v":0},0,{"$nulls":4},{"$f":"SUM(AH15:AK15)","v":0},0,{"$nulls":4},{"$f":"SUM(AN15:AQ15)","v":0},0,{"$nulls":4},{"$f":"SUM(AT15:AW15)","v":0},0,{"$nulls":4},{"$f":"SUM(AZ15:BC15)","v":0},0,{"$nulls":4},{"$f":"SUM(BF15:BI15)","v":0},0]
["3C","Is there a foreseeable path to fully and successfully implement this recommendation?",{"$nulls":5},{"$f":"SUM(D16:G16)","v":0},0,{"$nulls":4},{"$f":"SUM(J16:M16)","v":0},0,{"$nulls":4},{"$f":"SUM(P16:S16)","v":0},0,{"$nulls":4},{"$f":"SUM(V16:Y16)","v":0},0,{"$nulls":4},{"$f":"SUM(AB16:AE16)","v":0},0,{"$nulls":4},{"$f":"SUM(AH16:AK16)","v":0},0,{"$nulls":4},{"$f":"SUM(AN16:AQ16)","v":0},0,{"$nulls":4},{"$f":"SUM(AT16:AW16)","v":0},0,{"$nulls":4},{"$f":"SUM(AZ16:BC16)","v":0},0,{"$nulls":4},{"$f":"SUM(BF16:BI16)","v":0},0]
[null,null,null,"Sum Yes","Sum No","Sum Cannot Answer","Sum Do not know","Score","Usable Sum","Sum Yes","Sum No","Sum Cannot Answer","Sum Do not know","Score","Usable Sum","Sum Yes","Sum No","Sum Cannot Answer","Sum Do not know","Score","Usable Sum","Sum Yes","Sum No","Sum Cannot Answer","Sum Do not know","Score","Usable Sum","Sum Yes","Sum No","Sum Cannot Answer","Sum Do not know","Score","Usable Sum","Sum Yes","Sum No","Sum Cannot Answer","Sum Do not know","Score","Usable Sum","Sum Yes","Sum No","Sum Cannot Answer","Sum Do not know","Score","Usable Sum","Sum Yes","Sum No","Sum Cannot Answer","Sum Do not know","Score","Usable Sum","Sum Yes","Sum No","Sum Cannot Answer","Sum Do not know","Score","Usable Sum","Sum Yes","Sum No","Sum Cannot Answer","Sum Do not know","Score","Usable Sum"]
[1,"Effectiveness",null,{"$f":"SUM(D6:D8)","v":0},{"$f":"SUM(E6:E8)","v":0},0,0,{"$f":"(D18*1)+(F18*0.5)","v":0},{"$f":"SUM(D18:F18)","v":0},{"$f":"SUM(J6:J8)","v":0},0,0,0,{"$f":"(J18*1)+(L18*0.5)","v":0},{"$f":"SUM(J18:L18)","v":0},{"$f":"SUM(P6:P8)","v":0},0,0,0,{"$f":"(P18*1)+(R18*0.5)","v":0},{"$f":"SUM(P18:R18)","v":0},0,0,0,0,{"$f":"(V18*1)+(X18*0.5)","v":0},{"$f":"SUM(V18:X18)","v":0},0,0,0,0,{"$f":"(AB18*1)+(AD18*0.5)","v":0},{"$f":"SUM(AB18:AD18)","v":0},0,0,0,0,{"$f":"(AH18*1)+(AJ18*0.5)","v":0},{"$f":"SUM(AH18:AJ18)","v":0},0,0,0,0,{"$f":"(AN18*1)+(AP18*0.5)","v":0},{"$f":"SUM(AN18:AP18)","v":0},0,0,0,0,{"$f":"(AT18*1)+(AV18*0.5)","v":0},{"$f":"SUM(AT18:AV18)","v":0},0,0,0,0,{"$f":"(AZ18*1)+(BB18*0.5)","v":0},{"$f":"SUM(AZ18:BB18)","v":0},0,0,0,0,{"$f":"(BF18*1)+(BH18*0.5)","v":0},{"$f":"SUM(BF18:BH18)","v":0}]
[2,"Affordability",null,{"$f":"SUM(D10:D12)","v":0},{"$f":"SUM(E10:E12)","v":0},0,0,{"$f":"(D19*1)+(F19*0.5)","v":0},{"$f":"SUM(D19:F19)","v":0},{"$f":"SUM(J10:J12)","v":0},{"$f":"SUM(K10:K12)","v":0},{"$f":"SUM(L10:L12)","v":0},{"$f":"SUM(M10:M12)","v":0},{"$f":"(J19*1)+(L19*0.5)","v":0},{"$f":"SUM(J19:L19)","v":0},{"$f":"SUM(P10:P12)","v":0},{"$f":"SUM(Q10:Q12)","v":0},{"$f":"SUM(R10:R12)","v":0},{"$f":"SUM(S10:S12)","v":0},{"$f":"(P19*1)+(R19*0.5)","v":0},{"$f":"SUM(P19:R19)","v":0},{"$f":"SUM(V10:V12)","v":0},{"$f":"SUM(W10:W12)","v":0},{"$f":"SUM(X10:X12)","v":0},{"$f":"SUM(Y10:Y12)","v":0},{"$f":"(V19*1)+(X19*0.5)","v":0},{"$f":"SUM(V19:X19)","v":0},{"$f":"SUM(AB10:AB12)","v":0},{"$f":"SUM(AC10:AC12)","v":0},{"$f":"SUM(AD10:AD12)","v":0},{"$f":"SUM(AE10:AE12)","v":0},{"$f":"(AB19*1)+(AD19*0.5)","v":0},{"$f":"SUM(AB19:AD19)","v":0},{"$f":"SUM(AH10:AH12)","v":0},{"$f":"SUM(AI10:AI12)","v":0},{"$f":"SUM(AJ10:AJ12)","v":0},{"$f":"SUM(AK10:AK12)","v":0},{"$f":"(AH19*1)+(AJ19*0.5)","v":0},{"$f":"SUM(AH19:AJ19)","v":0},{"$f":"SUM(AN10:AN12)","v":0},{"$f":"SUM(AO10:AO12)","v":0},{"$f":"SUM(AP10:AP12)","v":0},{"$f":"SUM(AQ10:AQ12)","v":0},{"$f":"(AN19*1)+(AP19*0.5)","v":0},{"$f":"SUM(AN19:AP19)","v":0},{"$f":"SUM(AT10:AT12)","v":0},{"$f":"SUM(AU10:AU12)","v":0},{"$f":"SUM(AV10:AV12)","v":0},{"$f":"SUM(AW10:AW12)","v":0},{"$f":"(AT19*1)+(AV19*0.5)","v":0},{"$f":"SUM(AT19:AV19)","v":0},{"$f":"SUM(AZ10:AZ12)","v":0},{"$f":"SUM(BA10:BA12)","v":0},{"$f":"SUM(BB10:BB12)","v":0},{"$f":"SUM(BC10:BC12)","v":0},{"$f":"(AZ19*1)+(BB19*0.5)","v":0},{"$f":"SUM(AZ19:BB19)","v":0},{"$f":"SUM(BF10:BF12)","v":0},{"$f":"SUM(BG10:BG12)","v":0},{"$f":"SUM(BH10:BH12)","v":0},{"$f":"SUM(BI10:BI12)","v":0},{"$f":"(BF19*1)+(BH19*0.5)","v":0},{"$f":"SUM(BF19:BH19)","v":0}]
[3,"Feasibility",null,{"$f":"SUM(D14:D16)","v":0},{"$f":"SUM(E14:E16)","v":0},0,0,{"$f":"(D20*1)+(F20*0.5)","v":0},{"$f":"SUM(D20:F20)","v":0},{"$f":"SUM(J14:J16)","v":0},{"$f":"SUM(K14:K16)","v":0},{"$f":"SUM(L14:L16)","v":0},{"$f":"SUM(M14:M16)","v":0},0,0,{"$f":"SUM(P14:P16)","v":0},{"$f":"SUM(Q14:Q16)","v":0},{"$f":"SUM(R14:R16)","v":0},{"$f":"SUM(S14:S16)","v":0},0,0,{"$f":"SUM(V14:V16)","v":0},{"$f":"SUM(W14:W16)","v":0},{"$f":"SUM(X14:X16)","v":0},{"$f":"SUM(Y14:Y16)","v":0},0,0,{"$f":"SUM(AB14:AB16)","v":0},{"$f":"SUM(AC14:AC16)","v":0},{"$f":"SUM(AD14:AD16)","v":0},{"$f":"SUM(AE14:AE16)","v":0},0,0,{"$f":"SUM(AH14:AH16)","v":0},{"$f":"SUM(AI14:AI16)","v":0},{"$f":"SUM(AJ14:AJ16)","v":0},{"$f":"SUM(AK14:AK16)","v":0},0,0,{"$f":"SUM(AN14:AN16)","v":0},{"$f":"SUM(AO14:AO16)","v":0},{"$f":"SUM(AP14:AP16)","v":0},{"$f":"SUM(AQ14:AQ16)","v":0},0,0,{"$f":"SUM(AT14:AT16)","v":0},{"$f":"SUM(AU14:AU16)","v":0},{"$f":"SUM(AV14:AV16)","v":0},{"$f":"SUM(AW14:AW16)","v":0},0,0,{"$f":"SUM(AZ14:AZ16)","v":0},{"$f":"SUM(BA14:BA16)","v":0},{"$f":"SUM(BB14:BB16)","v":0},{"$f":"SUM(BC14:BC16)","v":0},0,0,{"$f":"SUM(BF14:BF16)","v":0},{"$f":"SUM(BG14:BG16)","v":0},{"$f":"SUM(BH14:BH16)","v":0},{"$f":"SUM(BI14:BI16)","v":0},0,0]

{"sheet":"Summary","index":1,"n_rows":13,"n_cols":6,"rows_kept":13,"cut":false,"hidden":false,"merged":[[0,0,0,5]]}
["Average Response Values"]
[]
[null,"Recommendation","Effectiveness","Affordability","Feasibility","Total"]
[11,{"$f":"Scoring!D3","v":0},{"$f":"Scoring!H18/Scoring!I18","v":{"$error":"#DIV/0!"}},{"$f":"Scoring!H19/Scoring!I19","v":{"$error":"#DIV/0!"}},{"$f":"Scoring!H20/Scoring!I20","v":{"$error":"#DIV/0!"}},{"$f":"(C4+D4+E4)/3","v":{"$error":"#DIV/0!"}}]
[12,{"$f":"Scoring!J3","v":0},{"$f":"Scoring!N18/Scoring!O18","v":{"$error":"#DIV/0!"}},{"$f":"Scoring!N19/Scoring!O19","v":{"$error":"#DIV/0!"}},{"$f":"Scoring!N20/Scoring!O20","v":{"$error":"#DIV/0!"}},{"$f":"(C5+D5+E5)/3","v":{"$error":"#DIV/0!"}}]
[13,{"$f":"Scoring!P3","v":0},{"$f":"Scoring!T18/Scoring!U18","v":{"$error":"#DIV/0!"}},{"$f":"Scoring!T19/Scoring!U19","v":{"$error":"#DIV/0!"}},{"$f":"Scoring!T20/Scoring!U20","v":{"$error":"#DIV/0!"}},{"$error":"#DIV/0!"}]
[14,{"$f":"Scoring!V3","v":0},{"$f":"Scoring!Z18/Scoring!AA18","v":{"$error":"#DIV/0!"}},{"$f":"Scoring!Z19/Scoring!AA19","v":{"$error":"#DIV/0!"}},{"$f":"Scoring!Z20/Scoring!AA20","v":{"$error":"#DIV/0!"}},{"$error":"#DIV/0!"}]
[15,{"$f":"Scoring!AB3","v":0},{"$f":"Scoring!AF18/Scoring!AG18","v":{"$error":"#DIV/0!"}},{"$f":"Scoring!AF19/Scoring!AG19","v":{"$error":"#DIV/0!"}},{"$f":"Scoring!AF20/Scoring!AG20","v":{"$error":"#DIV/0!"}},{"$error":"#DIV/0!"}]
[16,{"$f":"Scoring!AH3","v":0},{"$f":"Scoring!AL18/Scoring!AM18","v":{"$error":"#DIV/0!"}},{"$f":"Scoring!AL19/Scoring!AM19","v":{"$error":"#DIV/0!"}},{"$f":"Scoring!AL20/Scoring!AM20","v":{"$error":"#DIV/0!"}},{"$error":"#DIV/0!"}]
[17,{"$f":"Scoring!AN3","v":0},{"$f":"Scoring!AR18/Scoring!AS18","v":{"$error":"#DIV/0!"}},{"$f":"Scoring!AR19/Scoring!AS19","v":{"$error":"#DIV/0!"}},{"$f":"Scoring!AR20/Scoring!AS20","v":{"$error":"#DIV/0!"}},{"$error":"#DIV/0!"}]
[18,{"$f":"Scoring!AT3","v":0},{"$f":"Scoring!AX18/Scoring!AY18","v":{"$error":"#DIV/0!"}},{"$f":"Scoring!AX19/Scoring!AY19","v":{"$error":"#DIV/0!"}},{"$f":"Scoring!AX20/Scoring!AY20","v":{"$error":"#DIV/0!"}},{"$error":"#DIV/0!"}]
[19,{"$f":"Scoring!AZ3","v":0},{"$f":"Scoring!BD18/Scoring!BE18","v":{"$error":"#DIV/0!"}},{"$f":"Scoring!BD19/Scoring!BE19","v":{"$error":"#DIV/0!"}},{"$f":"Scoring!BD20/Scoring!BE20","v":{"$error":"#DIV/0!"}},{"$error":"#DIV/0!"}]
[20,{"$f":"Scoring!BF3","v":0},{"$f":"Scoring!BJ18/Scoring!BK18","v":{"$error":"#DIV/0!"}},{"$f":"Scoring!BJ19/Scoring!BK19","v":{"$error":"#DIV/0!"}},{"$f":"Scoring!BJ20/Scoring!BK20","v":{"$error":"#DIV/0!"}},{"$error":"#DIV/0!"}]